BEGIN:VCALENDAR
VERSION:2.0
CALSCALE:GREGORIAN
METHOD:PUBLISH
BEGIN:VEVENT
SUMMARY:Groupe de parole bipan n°33
DTSTART:20260503T115000Z
DTSTAMP:20260420T175404Z
CATEGORIES:
DESCRIPTION:Trente troisième édition du groupe de parole bipan – ouver
 t à tous·tes et aux personnes en questionnement.\nDate : Le dimanche 3 
 mai 2026. De 13h50 à 15h50.Lieu :  Au Hasard Ludique \, 128 avenue de S
 aint-Ouen\, 75018 ParisPlaces :  Nombre de places limitées à 25 !Access
 ibilité :\nAccessible PMR mais prévenez nous en amons car l'entrée n'es
 t pas la même.\nIl est possible à tout moment dans l'après-midi de trou
 ver un espace calme \; n’hésitez pas à le dire aux organisateurices.L'
 horaire de fin est indiqué à 15h50 car nous devons libérer les lieux à
  16h.Cependant\, n’hésitez pas à partir plus tôt si vous le souhaitez
 \, pas besoin de vous justifier.\nN'hésitez pas à nous contacter si vous
  avez des questions en matière d'accessibilité.\n 
GEO:48.8956605;2.3285779
LOCATION:128 Avenue de Saint-Ouen 75018 Paris - FR
ORGANIZER:Bi Pan Paris
END:VEVENT
END:VCALENDAR
