BEGIN:VCALENDAR
VERSION:2.0
CALSCALE:GREGORIAN
METHOD:PUBLISH
BEGIN:VEVENT
SUMMARY:Éliane Le Roux & Christine Mawet | Atelier Jeune Public - Cyanoty
 pe
DTSTART:20260727T123000Z
DTEND:20260727T143000Z
DTSTAMP:20260425T152713Z
CATEGORIES:
DESCRIPTION:Hybridation faune et floreAtelier de CYANOTYPE* - dès 8 anspa
 r les artistes Éliane Le Roux & Christine Mawet\nParking: Fournil des Dav
 idsPoint de rendez-vous : Fournil des DavidsLieu de l’événement : Atel
 ier de Poterie\n \n*Le cyanotype est un procédé par lequel on expose un
  papier spécial au soleil afin de révéler de jolis dessins bleus
GEO:43.940732;5.5640241
LOCATION:Les Davids\, route de banon 84750 Viens - FR
ORGANIZER:Estivales et Paysages
END:VEVENT
END:VCALENDAR
