BEGIN:VCALENDAR
VERSION:2.0
CALSCALE:GREGORIAN
METHOD:PUBLISH
BEGIN:VEVENT
SUMMARY:Cercle de femmes
DTSTART:20260505T163000Z
DTSTAMP:20260424T141949Z
CATEGORIES:
DESCRIPTION:Cercle de femmes\n \nUn espace dans lequel nous choisissons d
 e nous retrouver régulièrement pour nous déposer en toute sécurité.\n
 Un lieu d’ancrage et de partage grâce à la parole libérée.\nPour nou
 s sentir entières\, reliées et soutenues avec et par d’autres femmes.\
 n \n9. La Confiance\n5/5\n18h30-20h30\nNantes quartier Tortière\n(infos 
 d'accès envoyées à l'inscription)\n \n"Recréer un espace d'échange o
 ù l'on puisse se sentir libre d'être ce que l'on est\, avec sa force et 
 ses faiblesses\, avec sa confiance et ses doutes\, ses expériences et ses
  aspirations\, ses désirs de se comprendre au travers du partage" Maud S
 éjournant\n"Le moyen d'expression est le message" Marshall MacLuhan
LOCATION:Pont de la Tortière 44000 Nantes - FR
ORGANIZER:Juliette Portier
END:VEVENT
END:VCALENDAR
