BEGIN:VCALENDAR
VERSION:2.0
CALSCALE:GREGORIAN
METHOD:PUBLISH
BEGIN:VEVENT
SUMMARY:Avant première Baby Shooter par Rayane Badi
DTSTART:20260509T180000Z
DTSTAMP:20260423T150111Z
CATEGORIES:
DESCRIPTION:
GEO:49.173663;1.340266
LOCATION:7 Rue Maurice Ravel 27940 Le Val d'Hazey - FR
END:VEVENT
END:VCALENDAR
