BEGIN:VCALENDAR
VERSION:2.0
CALSCALE:GREGORIAN
METHOD:PUBLISH
BEGIN:VEVENT
SUMMARY:Laure Limongi & Vinciane Despret | Rencontre
DTSTART:20260727T090000Z
DTEND:20260727T103000Z
DTSTAMP:20260421T134640Z
CATEGORIES:
DESCRIPTION:L'invention de la merRencontre entre Laure Limongi & Vinciane 
 Despret\nPoint de rendez-vous : Bivouac\, point d’information des Estiva
 les. Lieu de l’événement : Confirmé sur place - Bivouac ou Amphithé
 âtre.\n 
GEO:43.936637;5.561774
LOCATION:Les Davids\, Route de Banon 84750 Viens - FR
ORGANIZER:Estivales et Paysages
END:VEVENT
END:VCALENDAR
