BEGIN:VCALENDAR
VERSION:2.0
CALSCALE:GREGORIAN
METHOD:PUBLISH
BEGIN:VEVENT
SUMMARY:Petit et Grand Morin
DTSTART:20250531T070000Z
DTEND:20260531T160000Z
DTSTAMP:20260420T040030Z
CATEGORIES:
DESCRIPTION:\nProgramme de la journée\n\n	 \n\n-9h/9h45 Accueil et colla
 tion sur le Parking du musée de la Seine et Marne \n\n            
     à Saint-Cyr-sur-Morin.\n\n	 \n\n-10h/11h30 Visite guidée du musé
 e de la Seine et Marne à Saint-Cyr-sur-Morin.\n\n	 \n\n-12h Cruising sur
  les bords du Petit Morin.\n\n	 \n\n-12h45 Déjeuner/Brunch.\n\n	 \n\n-1
 4h30 Visite du Jardin du Point du Jour à Verdelot et rallye photo en équ
 ipes.\n\n	 \n\n-16h Gouter léger.\n\n	 \n\n-17h Cruising sur les bords 
 du Grand Morin.\n\n	 \n\n-18h Fin de notre Sortie des copains « Petit et
  Grand Morin »\, \n\n\n\n        Parc des Capucins à Coulommiers.\n
LOCATION:17 avenue de La Ferté-sous-Jouarre 77750 Saint-Cyr-sur-Morin - F
 R
ORGANIZER:Vincennes en Anciennes
END:VEVENT
END:VCALENDAR
