BEGIN:VCALENDAR
VERSION:2.0
CALSCALE:GREGORIAN
METHOD:PUBLISH
BEGIN:VEVENT
SUMMARY:LA RYDER DU VAUDREUIL
DTSTART:20260503T060000Z
DTEND:20260503T160000Z
DTSTAMP:20260419T204611Z
CATEGORIES:
DESCRIPTION:\n	LA RYDER DU VAUDREUIL \n\n	COMPÉTITION EN 4 BALLES / MATC
 HPLAY\n\n	COMPOSITION DES EQUIPES FAITE PAR LE CLUB \n\n	 \n
LOCATION:26\, avenue Marc de la Haye 27100 Le Vaudreuil - FR
ORGANIZER:SEGV
END:VEVENT
END:VCALENDAR
