BEGIN:VCALENDAR
VERSION:2.0
CALSCALE:GREGORIAN
METHOD:PUBLISH
BEGIN:VEVENT
SUMMARY:SOIREE APERO SAXO & COCKTAIL AU JARDIN D'OLIVE
DTSTART:20260521T163000Z
DTSTAMP:20260425T033042Z
CATEGORIES:
DESCRIPTION:Jeudi 21 mai – Apéro Saxo & Soirée Cocktail\nAmbiance chic
 \, musique envoûtante et cocktails signature…Rejoignez-nous au Jardin d
 ’Olive pour une soirée où le saxophone live sublime chaque instant\nÀ
  savourer au coucher du soleil\, entre amis ou en amoureux\n18h30 – 21hJ
 ardin d’Olive\nNos formules :• Accès soirée + 1 cocktail : 26€/per
 s• Accès soirée + 1 cocktail + planche tapas (6 pers.) : 38€ / pers\
 nPlaces limitées – réservation obligatoireInfos au 06 29 91 08 72
GEO:43.1289351;5.7810729
LOCATION:140 Chemin de la Plage 83110 Sanary-sur-Mer - FR
ORGANIZER:HOSTELLERIE LA FARANDOLE
END:VEVENT
END:VCALENDAR
