BEGIN:VCALENDAR
VERSION:2.0
CALSCALE:GREGORIAN
METHOD:PUBLISH
BEGIN:VEVENT
SUMMARY:Киноклуб-обсуждение фильма Аньес Ва
 рда Cléo de 5 à 7
DTSTART:20260425T160000Z
DTSTAMP:20260424T142056Z
CATEGORIES:
DESCRIPTION:Париж. 1962 год. Два часа\, которые мо
 гут изменить всё.\n \nПриглашаем на встре
 чу\, посвящённую шедевру «бабушки Новой 
 волны» — фильму\, снятому в реальном вре
 мени\, где каждая минута на экране равна 
 минуте в жизни.\nКлео — певица\, красавиц
 а\, кукла в витрине собственной жизни. Ож
 идая результаты биопсии\, она бродит по П
 арижу: от магазина шляпок до кафе\, от зер
 кала к встрече со случайным солдатом. Мо
 жет ли страх смерти пробудить желание жи
 ть? И что остаётся\, когда маска перестаё
 т держаться?\n \nВ программе:\n\n\nАперитив 
 с шампанским и закусками\n\n\nУглублённое 
 обсуждение с модератором\n\n\nОткрытая ди
 скуссия: время\, женский взгляд\, трансфо
 рмация личности\n\n\nПространство для все
 х голосов — от первого впечатления до сп
 орных интерпретаций\n\n\nФильм рекомендуе
 тся посмотреть заранее. Для тех\, кто не з
 наком — краткое введение в начале встре
 чи.
GEO:48.8579027;2.3676405
LOCATION:67 Boulevard Beaumarchais 75003 Paris - FR
ORGANIZER:Daria Kadnikova
END:VEVENT
END:VCALENDAR
