BEGIN:VCALENDAR
VERSION:2.0
CALSCALE:GREGORIAN
METHOD:PUBLISH
BEGIN:VEVENT
SUMMARY:Génération Céline
DTSTART:20260728T183000Z
DTSTAMP:20260424T204347Z
CATEGORIES:
DESCRIPTION:4 VOIX POUR UNE LEGENDE\nVenez célébrer le retour de Céline
  avec "Génération Céline"\nun spectacle hommage exeptionnel\nen tourné
 e dans toute la France \net cet été dans le cadre majestieux et unique 
 du Théâtre Antique de Vaison-la-Romaine.\nVivez une experience immersive
  et émotionnelle  unique en son genre\,\na travers les chansons intempor
 elles de Céline qui\nvous sont présentées par des artistes aux voix uni
 ques\ndans un spectacle à couper le souffle!\nDeux heures de pur bonheur 
 et de communion pour tout les fans de Céline et de ses chansons mythiques
 .
GEO:44.2437978;5.0753181
LOCATION:Rue Bernard Noël 84110 Vaison-la-Romaine - FR
ORGANIZER:QUARTIER 9 PRODUCTIONS
END:VEVENT
END:VCALENDAR
