BEGIN:VCALENDAR
VERSION:2.0
CALSCALE:GREGORIAN
METHOD:PUBLISH
BEGIN:VEVENT
SUMMARY:Rencontre et dédicaces avec Juliette Brocal
DTSTART:20260603T160000Z
DTSTAMP:20260425T115558Z
CATEGORIES:
DESCRIPTION:À l’occasion de la parution de La Langue des Vipères (Rue 
 de Sèvres)\, venez à la rencontre de Juliette Brocal.\nFille illégitime
  d'un important prélat\, Iodis a grandi à l'abbaye de Réol aux côtés 
 de jeunes nobles mieux nés. Elle y étudie la Langue\, une magie liturgiq
 ue répondant par des visions aux questions de ceux qui la maîtrisent. Es
 pérant échapper à la vie monastique en étant choisie comme Doctorante\
 , Iodis trouve une rivale déterminée en la personne d'Halcyon de Monterr
 éol\, une nouvelle venue à qui tout semble réussir et dont les manière
 s fuyantes lui semblent aussitôt suspectes. Lorsqu'un précieux tableau e
 t le moine qui le peignait disparaissent en laissant derrière eux les tra
 ces d'une violente altercation\, Iodis n'a plus de doute : Halcyon sait qu
 elque chose et cache un secret qui pourrait compromettre l'abbaye tout ent
 ière.
GEO:45.653155;0.150537
LOCATION:121 Rue de Bordeaux 16000 Angoulême - FR
ORGANIZER:la Cité internationale de la bande dessinée et de l'image
END:VEVENT
END:VCALENDAR
