BEGIN:VCALENDAR
VERSION:2.0
CALSCALE:GREGORIAN
METHOD:PUBLISH
BEGIN:VEVENT
SUMMARY:Rencontre et dédicaces avec Matthieu Bonhomme
DTSTART:20260528T160000Z
DTSTAMP:20260425T115557Z
CATEGORIES:
DESCRIPTION:À l’occasion de la parution de La longue marche de Lucky Lu
 ke (éditions Dargaud)\, venez à la rencontre de Matthieu Bonhomme.\nFor
 êts du nord du Minnesota\, territoire Lakota.\nLucky Luke est chargé par
  Mr Cramp\, patron de l'imposante « Cramp Compagny »\, de retrouver son 
 neveu\, qui aurait été enlevé à la naissance par la tribu des Pieds-bl
 eus. Luke retrouve l'enfant – désormais âgé de 10 ans\, nommé Nuage 
 Rouge et fils adoptif du chef Lance de Bois - \, mais réalise vite que Cr
 amp cherche en fait à éliminer cet héritier et rival\, pour s'approprie
 r pleinement l'entreprise familiale. \nLe cowboy fuit immédiatement avec
  Nuage Rouge désormais en danger vers le Canada et entame une marche long
 ue et périlleuse entre forêt glaciale\, loups affamés et (quatre) redou
 tables desperados envoyés par Cramp !\nDéjà installé avec succès dans
  le territoire de Lucky Luke\, Matthieu Bonhomme renouvelle le genre en jo
 uant avec les personnages bien connus de la série (ainsi qu'à d'autres i
 ssus de l'actualité !) tout en montant encore d'un cran sa virtuosité gr
 aphique.\nIl nous offre un grand western\, qui mêle brillamment la plus p
 ure tradition de l'aventure avec un regard tendre\, drôle et engagé.
GEO:45.653155;0.150537
LOCATION:121 Rue de Bordeaux 16000 Angoulême - FR
ORGANIZER:la Cité internationale de la bande dessinée et de l'image
END:VEVENT
END:VCALENDAR
