BEGIN:VCALENDAR
VERSION:2.0
CALSCALE:GREGORIAN
METHOD:PUBLISH
BEGIN:VEVENT
SUMMARY:Rencontre avec Thaïs Guimard
DTSTART:20260520T163000Z
DTSTAMP:20260425T115558Z
CATEGORIES:
DESCRIPTION:La Bibliothèque est heureuse d’accueillir Thaïs Guimard\, 
 jeune autrice et dessinatrice remarquée\, pour une rencontre autour de so
 n premier long récit en bande dessinée : Retour à Carmélites.\nPublié
  chez Sarbacane en 2026\, Retour à Carmélites est un album sensible et f
 in qui explore le passage à l’âge adulte à travers l’histoire de q
 uatre amies et leurs questionnements du quotidien. Thaïs Guimard a début
 é ce projet lors de sa résidence à la Maison des auteurs d’Angoulêm
 e en 2022\, où elle a développé l’écriture et l’univers graphique 
 du livre.
GEO:45.653155;0.150537
LOCATION:121 Rue de Bordeaux 16000 Angoulême - FR
ORGANIZER:la Cité internationale de la bande dessinée et de l'image
END:VEVENT
END:VCALENDAR
