BEGIN:VCALENDAR
VERSION:2.0
CALSCALE:GREGORIAN
METHOD:PUBLISH
BEGIN:VEVENT
SUMMARY:Guided tour of Vieux-Lille
DTSTART:20260519T120000Z
DTEND:20260519T150000Z
DTSTAMP:20260421T203003Z
CATEGORIES:
DESCRIPTION:Venez découvrir Le Vieux-Lille sous un nouveau jour\, guidés
  par le regard d'un historien. Chaque rue et chaque bâtiment racontent un
 e histoire et reflètent l'âme de la ville.\n \nCome and explore Le Vieu
 x-Lille from a fresh perspective\, guided by a historian’s eye. Every st
 reet and every building tell a story and reflects the soul of the city.
LOCATION:  Lille - FR
ORGANIZER:Horizon International
END:VEVENT
END:VCALENDAR
