BEGIN:VCALENDAR
VERSION:2.0
CALSCALE:GREGORIAN
METHOD:PUBLISH
BEGIN:VEVENT
SUMMARY:Guided tour of Lille Saint-Sauveur
DTSTART:20260506T120000Z
DTEND:20260506T150000Z
DTSTAMP:20260421T203003Z
CATEGORIES:
DESCRIPTION:Le quartier Saint-Sauveur de Lille a connu de profondes transf
 ormations et témoigne d'une forte influence européenne. Cette visite com
 mence à la station de métro Porte de Douai et retrace l'histoire de la v
 ille\, depuis les fortifications du XVe au XVIIe siècle et les destructio
 ns de la Première Guerre mondiale jusqu'aux hôpitaux médiévaux\, au be
 ffroi classé au patrimoine mondial de l'UNESCO et à l'ancienne gare.\n 
 \nThe Saint-Sauveur area of Lille has undergone major transformations and 
 reflects strong European influences. This tour starts at Porte de Douai me
 tro and explores the city’s history—from 15th–17th century fortifica
 tions and WWI destruction to medieval hospitals\, a UNESCO-listed belfry\,
  and a former railway station.
LOCATION: 59000 Lille - FR
ORGANIZER:Horizon International
END:VEVENT
END:VCALENDAR
