BEGIN:VCALENDAR
VERSION:2.0
CALSCALE:GREGORIAN
METHOD:PUBLISH
BEGIN:VEVENT
SUMMARY:Truth\, History\, Memory in Lille
DTSTART:20260504T153000Z
DTEND:20260504T173000Z
DTSTAMP:20260421T202830Z
CATEGORIES:
DESCRIPTION:La Première Guerre mondiale – la Grande Guerre – a profon
 dément marqué Lille\, tout comme l'ensemble de la région\, tant sur le 
 plan physique qu'historique et culturel. Bon nombre de ses traces sont enc
 ore visibles aujourd'hui\, à condition de savoir où chercher. Au cours d
 e cet atelier\, nous découvrirons quelques sites remarquables liés à la
  Première Guerre mondiale à Lille\, ainsi que les histoires qu'ils racon
 tent.\n \n \nWorld War I – la Grande Guerre\, the Great War – had a 
 major impact on Lille\, as on the region as a whole\, physically\, histori
 cally\, and culturally. Many of its effects remain visible if one knows wh
 at to look for. In this workshop\, we will examine a few notable WWI-relat
 ed landmarks in Lille\, and the stories they tell.
GEO:50.6331207;3.0464865
LOCATION:60 Boulevard Vauban 59800 Lille - FR
ORGANIZER:Horizon International
END:VEVENT
END:VCALENDAR
