BEGIN:VCALENDAR
VERSION:2.0
CALSCALE:GREGORIAN
METHOD:PUBLISH
BEGIN:VEVENT
SUMMARY:Finale Concours de Plaidoiries DIEC
DTSTART:20260425T120000Z
DTSTAMP:20260422T070806Z
CATEGORIES:
DESCRIPTION:\n	Chères cliniciennes\, chers cliniciens\, \n\n	 \n\n	Nous
  avons le plaisir de vous annoncer la finale de la seconde édition du con
 cours de plaidoirie\, organisée par le pôle Droit international\, europ
 éen et comparé. \n\n	 \n\n	Venez soutenir les finalistes lors de la fi
 nale !\n\n	 \n\n	Pour rappel le sujet porte sur l’affaire des États-D
 ésunis — Série de mesures concernant l’acier\, sujet portant sur plu
 sieurs spécialisations du droit international\, et notamment le  droit i
 nternational des échanges ou encore le droit international de l’environ
 nement.\n\n	 \n\n	Cette rencontre sera aussi l’occasion de rencontrer l
 es intervenants d’exception\, spécialistes en Droit international : \n
 \n	 \n\n	Monsieur Joris Leveziel - Doctorant en droit international\, cha
 rgé de TD en droit international économique et en relations internationa
 les\, coach pour le concours John H. Jackson Moot Court Competition depuis
  deux ans et juge à l’édition 2026 du THIULDT (the Hague Inter-Univers
 ity Law Debate Tournament).\n\n	 \n\n	Madame Olivia Korpanty - Doctorante
  en droit international à l’IREDIES\, chargée de TD en droit internati
 onal public\, droit international de l’environnement et droit internatio
 nal économique et coach de l’équipe représentant Paris 1 à l’édit
 ion 2026 du Concours Rousseau.\n\n	 \n\n	Madame Imane Kadar - Élève-avo
 cate à l’EFB et diplômée d’un Master 2 en droit international écon
 omique de l’Université Paris 1 Panthéon-Sorbonne\, et coach de l’éq
 uipe représentant l’Université Paris 1 au John H. Jackson Moot Court C
 ompetition depuis deux ans. \n\n	 \n\n	Nous réitérons nos remerciement
 s à eux pour leur disponibilité et leur contribution\, rendant ce concou
 rs formateur et palpitant pour nos finalistes.\n\n	 \n\n	Samedi 25 avril 
 2026\, de 14h à 18h\n\n	Amphi Bachelard   — Centre Sorbonne\, 54 rue 
 Saint Jacques\n\n	Places limitées : inscription obligatoire.\n\n	 \n\n	
  \n\n	Nous espérons vous y retrouver nombreuses et nombreux ! \n\n	 \n
 \n	L’équipe CJS.\n
LOCATION:54\, rue Saint-Jacques 75005 Paris - FR
ORGANIZER:Clinique Juridique de La Sorbonne
END:VEVENT
END:VCALENDAR
