BEGIN:VCALENDAR
VERSION:2.0
CALSCALE:GREGORIAN
METHOD:PUBLISH
BEGIN:VEVENT
SUMMARY:ADELE CASTILLON
DTSTART:20270131T183000Z
DTSTAMP:20260424T010920Z
CATEGORIES:
DESCRIPTION:A 24 ans\, malgré cette jeunesse insolente qui nimbe son re
 gard brun d’un éclat pur et vif\, Adèle Castillon a déjà vécu plu
 sieurs vies\, fictionées ou réelles. De quoi nourrir sans effort les tex
 tes intimistes d’un premier album racontant sans fard une première rupt
 ure amoureuse\, les tourments de la dépendance affective et de la dépend
 ance tout court. 
LOCATION:37 allée du Moura 64200 BIARRITZ - FR
ORGANIZER:ATABAL BIARRITZ
END:VEVENT
END:VCALENDAR
