BEGIN:VCALENDAR
VERSION:2.0
CALSCALE:GREGORIAN
METHOD:PUBLISH
BEGIN:VEVENT
SUMMARY:PATRICK FIORI
DTSTART:20260808T180000Z
DTSTAMP:20260425T033124Z
CATEGORIES:
DESCRIPTION:A travers ses projets\, ses chansons\, ses spectacles\, de Cor
 su Mezu Mezu à The Voice\, des théâtres aux Zéniths\, Patrick Fiori a 
 développé une relation toute particulière avec son public.\nToujours en
 touré de son équipe\, venez rejoindre sa famille de cœur le temps d'une
  soirée sous les étoiles.
LOCATION:Place de la mairie 12130 SAINT GENIEZ D'OLT - FR
ORGANIZER:SARL GINGER
END:VEVENT
END:VCALENDAR
