BEGIN:VCALENDAR
VERSION:2.0
CALSCALE:GREGORIAN
METHOD:PUBLISH
BEGIN:VEVENT
SUMMARY:Soirée Décideurs IT 18 juin 2026 Nice
DTSTART:20260618T160000Z
DTEND:20260618T203000Z
DTSTAMP:20260421T234621Z
CATEGORIES:
DESCRIPTION:\nDécideurs IT (DSI\, RSSI\, CDO\, CTO …) : le CIPMed et se
 s partenaires ont le plaisir de vous inviter à la soirée croisière des 
 Décideurs IT - Territoire 06\, le jeudi 18 juin 2028 au depart du Port de
  Nice.\n\nLe maxi-catamaran premium de 20 m\, 100% hybride\, le Mayba\, se
 ra entièrement privatisé pour vous pour une croisière qui nous emmèner
 a dans la baie de Nice.\n\nVous serez reçus par nos partenaires : Adista\
 , Amiltone\, CBM\, Free Pro\, HPE Networking\, Huawei et NXO\n\nNous déba
 ttrons sur le thème "L’IA au cœur des DSI : l'impact de l'IA sur les m
 étiers de la DSI un atout stratégique pour la performance"\n\n	 \n\nAu 
 programme de la soirée :\n\n18h - 18h30 : Apéritif d’accueil à quai 
 \n\n18h30 : Départ de la croisière et début de la Conférence\n\n20h -
  22h  : On jette l'ancre dans la baie de Nice pour le dîner\n\n22h : ret
 our au port de Nice\n\nDécideurs IT\, inscrivez-vous vite\, le nombre de 
 places est limité !\n\nNB : Inscription EXCLUSIVEMENT réservée aux DSI\
 , CTO\, RSSI\, CDO ... et soumise à validation – En cas de doute\, vous
  pouvez demander la validation de votre participation à communication@cip
 -paca.org\n\n	 \n
LOCATION:quai Amiral Infernet  06300 Nice - FR
ORGANIZER:CIP Club Informatique Provence med
END:VEVENT
END:VCALENDAR
