BEGIN:VCALENDAR
VERSION:2.0
CALSCALE:GREGORIAN
METHOD:PUBLISH
BEGIN:VEVENT
SUMMARY:Bibliotopia 2026
DTSTART:20260529T170000Z
DTEND:20260531T163000Z
DTSTAMP:20260422T225848Z
CATEGORIES:
DESCRIPTION:\n\nBibliotopia\, festival des littérature autour du monde du
  29 au 31 mai\n\nTarif unique par rencontre : CHF 10.– \n+ à l’acha
 t de 5 rencontres\, un bon* de CHF 20.– offert sur les livres de votre c
 hoix \; pour 4 rencontres\, un bon de CHF 15.– offert \; pour 3 rencon
 tres\, un bon de CHF 10.– offert.\nEntrée gratuite pour les moins de 25
  ans\n\n		 \n\n		 \n\n\n\n		 \n\n\n	 \n
LOCATION:En Bois Désert 10 1147 Montricher - CH
ORGANIZER:Fondation Jan Michalski pour l'écriture et la littérature
END:VEVENT
END:VCALENDAR
