BEGIN:VCALENDAR
VERSION:2.0
CALSCALE:GREGORIAN
METHOD:PUBLISH
BEGIN:VEVENT
SUMMARY:Tournoi Tag Team
DTSTART:20260523T120000Z
DTEND:20260523T130000Z
DTSTAMP:20260423T184412Z
CATEGORIES:
DESCRIPTION:\n\nTag Team\, le nouveau jeu de baston en 1 contre 1 entre da
 ns l’arène !\n\nRencontrez 12 combattants stylés et charismatiques qui
  ont leurs propres techniques et coups spéciaux. Composez votre équipe d
 e 2 et développez la synergie ultime combinant leurs 2 decks uniques !\n\
 nCommencez avec un deck de 2 cartes seulement. Le combat se déroule autom
 atiquement \; dépilez vos cartes en appliquant leurs effets. Chaque fin d
 e round est capitale ! \n\nProgrammez votre deck en y ajoutant stratégiq
 uement de nouvelles cartes sans modifier l’ordre de celles qui s’y tro
 uvent déjà afin de planifier un assaut décisif !\n\nDans Tag Team\, ma
 îtrisez votre équipe\, créez des combos dévastateurs et dominez votre 
 adversaire en déjouant habilement ses attaques. Chaque décision compte p
 our triompher et mettre votre opposant KO !\n\nRound 1… FIGHT!\n\n\n	 \
 n
LOCATION:50 rue de la Grande Remise 78440 Porcheville - FR
ORGANIZER:ESPACE BORIS VIAN -
END:VEVENT
END:VCALENDAR
