BEGIN:VCALENDAR
VERSION:2.0
CALSCALE:GREGORIAN
METHOD:PUBLISH
BEGIN:VEVENT
SUMMARY:DÎNER SPECTACLE "TUBES 80"
DTSTART:20261211T190000Z
DTEND:20261211T210000Z
DTSTAMP:20260419T190612Z
CATEGORIES:
DESCRIPTION:\n	 \n\n	 \n\nDÎNER SPECTACLE\n\n	 \n\n	 \n\nTUBES 80\n\n
 \nLe spectacle Tubes 80 vous embarque pour un voyage musical rythmé par l
 es plus grands hits de la décennie.\n\nCostumes flashy\, chorégraphies e
 ndiablées et énergie débordante seront au rendez-vous pour un déjeuner
  spectacle festif et coloré\, où bonne humeur et nostalgie se rencontren
 t.\n\n		 \n\n		 \n\n\n20h00 - en salle de spectacle\n\n	 \n\n	 \n\nREN
 SEIGNEMENTS au 02.31.97.32.19\n\n	 \n\n	 \n\nTARIF : 69 € la place\n
 \n	 \n\n	 \n\n Conformément à la règlementation en vigueur\, l'accè
 s aux salles de jeux du casino est interdit aux mineurs et soumis à la p
 résentation d'une pièce d'identité.\n
LOCATION:20 RUE GUYNEMER 14530 LUC SUR MER - FR
ORGANIZER:Casino de LUC-SUR-MER
END:VEVENT
END:VCALENDAR
