BEGIN:VCALENDAR
VERSION:2.0
CALSCALE:GREGORIAN
METHOD:PUBLISH
BEGIN:VEVENT
SUMMARY:Four Ever One\, tribute U2 + guest chez Wood Stock Guitares
DTSTART:20261205T190000Z
DTEND:20261205T224500Z
DTSTAMP:20260424T101729Z
CATEGORIES:
DESCRIPTION:\n\n\n\n				 \n\n\n\n\n	 \n
LOCATION:3 Rue St Exupéry\, ZA La Passerelle 68190 Ensisheim - FR
ORGANIZER:Wood Stock Guitares
END:VEVENT
END:VCALENDAR
