BEGIN:VCALENDAR
VERSION:2.0
CALSCALE:GREGORIAN
METHOD:PUBLISH
BEGIN:VEVENT
SUMMARY:ZEPSET\, a Tribute to Led Zeppelin + guest chez Wood Stock Guitare
 s
DTSTART:20261107T190000Z
DTEND:20261107T224500Z
DTSTAMP:20260421T030038Z
CATEGORIES:
DESCRIPTION:\n\n\n\n				 \n\n\n\n\n	 \n
LOCATION:3 Rue St Exupéry\, ZA La Passerelle 68190 Ensisheim - FR
ORGANIZER:Wood Stock Guitares
END:VEVENT
END:VCALENDAR
