BEGIN:VCALENDAR
VERSION:2.0
CALSCALE:GREGORIAN
METHOD:PUBLISH
BEGIN:VEVENT
SUMMARY:HELP! A Beatles tribute chez Wood Stock Guitares
DTSTART:20260926T180000Z
DTEND:20260926T214500Z
DTSTAMP:20260421T025916Z
CATEGORIES:
DESCRIPTION:\n\n\n\n				 \n\n\n\n\n	 \n
LOCATION:3 Rue St Exupéry\, ZA La Passerelle 68190 Ensisheim - FR
ORGANIZER:Wood Stock Guitares
END:VEVENT
END:VCALENDAR
