BEGIN:VCALENDAR
VERSION:2.0
CALSCALE:GREGORIAN
METHOD:PUBLISH
BEGIN:VEVENT
SUMMARY:Arrêt sur images à la rencontre des Toulousains !
DTSTART:20260526T170000Z
DTSTAMP:20260424T191829Z
CATEGORIES:
DESCRIPTION:Le média indépendant Arrêt sur images quitte son studio et 
 prend la route pour aller à la rencontre de ses abonnés… mais aussi de
 s curieux ! Pour la deuxième édition de l’événement\, l’équipe d
 ébarque à La Cabane\, la salle de spectacles des Halles de la Cartoucher
 ie à Toulouse : l’occasion d’assister à une émission en direct\, pr
 ésentée par Nassira El Moaddem\, et d’échanger avec l’équipe autou
 r d’un verre au bar ou de faire le plein de goodies. Un événement gara
 nti 100% critique média.
GEO:43.601752;1.4076511
LOCATION:10 Place de la Charte des Libertés Communales 31100 Toulouse - F
 R
ORGANIZER:Arrêt sur images
END:VEVENT
END:VCALENDAR
