BEGIN:VCALENDAR
VERSION:2.0
CALSCALE:GREGORIAN
METHOD:PUBLISH
BEGIN:VEVENT
SUMMARY:Atelier PRISE DE PAROLE EN PUBLIC 29 juin - Le débat
DTSTART:20260629T160000Z
DTEND:20260629T180000Z
DTSTAMP:20260420T183528Z
CATEGORIES:
DESCRIPTION:\n- lundi 29 juin : Patricia \n\nAtelier Prise de Parole en P
 ublic N6\n\n« Le débat » \n\nEntraînements sur l’argumentation et l
 a posture:\n\npensée claire et brouillage de pistes\, bonne ou mauvaise f
 oi\, punch lignes\, l’humour ou agressivité\, qui gagne à la fin ? \n
 \nEntraînement sur textes personnels \n\n« De la prise de parole… à
  l’éloquence »\n\nSituations : barre – rdv clientelle – réunion
  – colloque\n\n \n\nPatricia SAMUEL : Formatrice Voix – Prise de par
 ole en public. Comédienne – chanteuse.\n\nFranck GERVAIS : Formateur j
 eu. Comédien\, metteur en scène\, compositeur.\n\nLaure BONTAZ ou Amé
 lie MEUNIER: Formatrice : Corps\, danse\, posture.\n\nDov MILSTEIN : Anc
 ien Avocat\, comédien\, chanteur. Formateur éloquence.\n\nOury ATTIA : 
 Avocat\, formateur construction du discours.\n\n \n\nComment se prépare-
 t-on pour une Prise de Parole en Public ?\n\nNous vous proposons une sér
 ie de 6 sessions de travail\, pour vous sentir plus détendus et mieux arm
 és lors de vos prises de parole en public\, en rendez-vous clientèle\, e
 n plaidoirie.\n\nTout au long de ces ateliers\, dirigés par des formateur
 s professionnels\, comédiens ou avocats\, nous tâcherons d’une part de
  revisiter les éléments indispensables à la bonne compréhension de not
 re fonctionnement corporel\, vocal\, émotionnel\, et cognitif \; et d’
 autre part de comprendre comment développer l’impact de notre discours 
 face à la demande et aux attentes de notre interlocuteur\, de notre publi
 c.\n\nComment prépare-t-on sa voix pour une prise de parole en public ? 
 Comment positionner notre corps ? Comment s’installer dans un état ém
 otionnel favorable ? (ce dernier point sera plus largement développé da
 ns l’atelier « gestion du stress »).\n\nIl y a des points communs da
 ns la préparation et dans l’exécution de la performance d’une prise 
 de parole en public\, devant un client autant que devant un tribunal. Ces 
 éléments essentiels peuvent s’entrainer et se mettre en place avec une
  approche pragmatique adaptée à votre personnalité\, à votre corps.\n\
 nVous pourrez par exemple rapidement augmenter le volume et le placement d
 e votre voix\, développer l’agilité du corps\, augmenter vos sensation
 s de détente\, renforcer votre confiance\, affiner vos techniques d’arg
 umentation ou de synthétisation et en vérifier l’impact sur votre disc
 ours.\n\n---\n\n lundi 13 avril 2026 : Patricia : \n\nAtelier Prise de P
 arole en Public 1 : \n\n« Techniques de voix et Conscience du corps\, pa
 rtie1 » : \n\nComment donner de la voix\, ouvrir le corps\, adapter la r
 espiration\,  l’articulation\, les intonations et marquer des reliefs d
 ans le discours. \n\nNous travaillerons sur des exemples de textes fourni
 s + vous apporterez un texte de votre choix (plaidoirie\, discours\, noté
  de conférence\, présentation orale…).\n\n \n\n \n\n- lundi 4 mai : 
 Franck\n\nAtelier Prise de Parole en Public N2\n\n« Masques et Sincérit
 é » : \n\nTout ce que nous pensons se voit. Tout ce qui se voit donne 
 à penser. Nous nous attacherons à prendre conscience de ce que notre ima
 ge extérieure donne à voir et à penser et comment nous pouvons avancer 
 dans cette maîtrise intérieure\, puis extérieure du paraître.\n\n \n\
 n \n\n- lundi 18 mai : Franck\n\nAtelier Prise de Parole en Public N3 \n
 \n« Improvisations » : \n\nL’art de libérer l’imaginaire\, trouver
  des exemples et des appuis du discours\, rebondir sur une ligne d’argum
 entation … cela s’entraîne. C’est l’art de l’improvisation. \n
 \n \n\n \n\n- lundi 1er Juin : Patricia\n\nAtelier Prise de Parole en Pu
 blic N4: \n\n« Techniques de voix et Conscience du corps\, partie 2 : Le
  relief dans le discours » : \n\nComment prendre la parole \, la donner 
 et la reprendre\, donner du relief à son discours pour le rendre palpitan
 t ou neutre\, maitriser les pauses\, les inflexions de voix\, le rythme et
  le débit de la parole. Entraînement sur textes fournis + textes personn
 els que vous apporterez. \n\n \n\n \n\n- lundi 15 juin : Patricia \n\n
 Atelier Prise de Parole en Public N5 \n\n« Intentions et Emotions »\n\n
 Comment atteindre son objectif: préciser les intentions\, utiliser les le
 viers émotionnels\,  maîtriser la forme et le fond »\n\n \n\n \n\n- 
 lundi 29 juin : Patricia \n\nAtelier Prise de Parole en Public N6\n\n« L
 e débat » \n\nEntraînements sur l’argumentation et la posture:\n\npe
 nsée claire et brouillage de pistes\, bonne ou mauvaise foi\, punch ligne
 s\, l’humour ou agressivité\, qui gagne à la fin ? \n\nEntraînement 
 sur textes personnels \n\n \n\n	 \n
LOCATION:179-191 avenue Joliot-Curie 92000 Nanterre - FR
ORGANIZER:Barreau et CARPA des Hauts-de-Seine
END:VEVENT
END:VCALENDAR
