BEGIN:VCALENDAR
VERSION:2.0
CALSCALE:GREGORIAN
METHOD:PUBLISH
BEGIN:VEVENT
SUMMARY:Déguster : goûtez la science autrement
DTSTART:20260517T090000Z
DTEND:20260517T113000Z
DTSTAMP:20260422T135246Z
CATEGORIES:
DESCRIPTION:Science Comes To Town met les sens à l’honneur en mai avec 
 un événement savoureux et ludique. Curieux.ses\, gourmand.e.s et passion
 né.e.s de science\, préparez-vous à tester vos connaissances dans un je
 u qui fera frétiller vos papilles !\n \nOcéanopolis\, Taste Ouest (Coq 
 en Pâte) et l’Association Valentin Haüy\, vous proposent un Burger Qui
 z scientifique aux mille saveurs ! A chaque bouchée : un mélange de scie
 nce et de gastronomie avec des jeux collectifs\, des anecdotes scientifiqu
 es\, des défis gourmands et un atelier culinaire.Le 17 mai 2026\, formez 
 votre équipe entre amis ou en famille\, et affrontez les autres tables à
  travers trois manches thématiques pour explorer la science de l’alimen
 tation autrement.Au menu :11h00 – 12h45 : Le Burger Quiz scientifique\n\
 nLes yeux plus gros que l’océan : plongez dans le monde des produits de
  la mer et découvrez leurs enjeux de durabilité\nLa cuisine\, c’est de
  la chimie : explorez les phénomènes de fermentation\, les levures et la
  cuisine moléculaire\nTraditions culinaires\, une histoire pas si locale 
 : voyagez à travers l’histoire et la géographie de notre alimentation 
 d’hier et de demain\n\nPour pimenter le tout\, la finale se jouera lors 
 d’une dégustation à l’aveugle.À partir de 13h00 : Atelier culinaire
  & débrief gourmandPoursuivez l’expérience en assistant à des atelier
 s gourmands et commentés par les chercheur·e·s.Préparez-vous à savour
 er la science autrement !\nAccessibilitéÉvénement gratuit\, ouvert à t
 ous.tes sur inscription en ligne dans la limite des places disponibles.Res
 tez connectés !  Retrouvez la programmation complète du projet sur notr
 e page internet\,et toute l’actualité à l’international sur instagra
 m\, SCTT\, LinkedIn\, Youtube  Des questions ? Contactez-nous\n
GEO:48.3890457;-4.4982695
LOCATION:25 Rue de Pontaniou 29200 Brest - FR
ORGANIZER:Science Comes to Town Océanopolis
END:VEVENT
END:VCALENDAR
