BEGIN:VCALENDAR
VERSION:2.0
CALSCALE:GREGORIAN
METHOD:PUBLISH
BEGIN:VEVENT
SUMMARY:Atelier PRISE DE PAROLE EN PUBLIC 15 juin 2026 | Intentions et ém
 otions
DTSTART:20260615T160000Z
DTEND:20260615T180000Z
DTSTAMP:20260420T183620Z
CATEGORIES:
DESCRIPTION:\n- lundi 15 juin : Patricia \n\nAtelier Prise de Parole en P
 ublic N5 \n\n« Intentions et Emotions »\n\nComment atteindre son object
 if: préciser les intentions\, utiliser les leviers émotionnels\,  maît
 riser la forme et le fond »\n\n« De la prise de parole… à l’éloqu
 ence »\n\nSituations : barre – rdv clientelle – réunion – colloq
 ue\n\n \n\nPatricia SAMUEL : Formatrice Voix – Prise de parole en publ
 ic. Comédienne – chanteuse.\n\nFranck GERVAIS : Formateur jeu. Comédi
 en\, metteur en scène\, compositeur.\n\nLaure BONTAZ ou Amélie MEUNIER
 : Formatrice : Corps\, danse\, posture.\n\nDov MILSTEIN : Ancien Avocat\
 , comédien\, chanteur. Formateur éloquence.\n\nOury ATTIA : Avocat\, fo
 rmateur construction du discours.\n\n \n\nComment se prépare-t-on pour u
 ne Prise de Parole en Public ?\n\nNous vous proposons une série de 6 ses
 sions de travail\, pour vous sentir plus détendus et mieux armés lors de
  vos prises de parole en public\, en rendez-vous clientèle\, en plaidoiri
 e.\n\nTout au long de ces ateliers\, dirigés par des formateurs professio
 nnels\, comédiens ou avocats\, nous tâcherons d’une part de revisiter 
 les éléments indispensables à la bonne compréhension de notre fonction
 nement corporel\, vocal\, émotionnel\, et cognitif \; et d’autre part 
 de comprendre comment développer l’impact de notre discours face à la 
 demande et aux attentes de notre interlocuteur\, de notre public.\n\nComme
 nt prépare-t-on sa voix pour une prise de parole en public ? Comment pos
 itionner notre corps ? Comment s’installer dans un état émotionnel fa
 vorable ? (ce dernier point sera plus largement développé dans l’atel
 ier « gestion du stress »).\n\nIl y a des points communs dans la prép
 aration et dans l’exécution de la performance d’une prise de parole e
 n public\, devant un client autant que devant un tribunal. Ces éléments 
 essentiels peuvent s’entrainer et se mettre en place avec une approche p
 ragmatique adaptée à votre personnalité\, à votre corps.\n\nVous pourr
 ez par exemple rapidement augmenter le volume et le placement de votre voi
 x\, développer l’agilité du corps\, augmenter vos sensations de déten
 te\, renforcer votre confiance\, affiner vos techniques d’argumentation 
 ou de synthétisation et en vérifier l’impact sur votre discours.\n\n--
 -\n\n lundi 13 avril 2026 : Patricia : \n\nAtelier Prise de Parole en Pu
 blic 1 : \n\n« Techniques de voix et Conscience du corps\, partie1 » :
  \n\nComment donner de la voix\, ouvrir le corps\, adapter la respiration
 \,  l’articulation\, les intonations et marquer des reliefs dans le dis
 cours. \n\nNous travaillerons sur des exemples de textes fournis + vous a
 pporterez un texte de votre choix (plaidoirie\, discours\, noté de confé
 rence\, présentation orale…).\n\n \n\n \n\n- lundi 4 mai : Franck\n\n
 Atelier Prise de Parole en Public N2\n\n« Masques et Sincérité » : \n
 \nTout ce que nous pensons se voit. Tout ce qui se voit donne à penser. N
 ous nous attacherons à prendre conscience de ce que notre image extérieu
 re donne à voir et à penser et comment nous pouvons avancer dans cette m
 aîtrise intérieure\, puis extérieure du paraître.\n\n \n\n \n\n- lun
 di 18 mai : Franck\n\nAtelier Prise de Parole en Public N3 \n\n« Improvi
 sations » : \n\nL’art de libérer l’imaginaire\, trouver des exemple
 s et des appuis du discours\, rebondir sur une ligne d’argumentation …
  cela s’entraîne. C’est l’art de l’improvisation. \n\n \n\n \n
 \n- lundi 1er Juin : Patricia\n\nAtelier Prise de Parole en Public N4: \n
 \n« Techniques de voix et Conscience du corps\, partie 2 : Le relief dans
  le discours » : \n\nComment prendre la parole \, la donner et la repren
 dre\, donner du relief à son discours pour le rendre palpitant ou neutre\
 , maitriser les pauses\, les inflexions de voix\, le rythme et le débit d
 e la parole. Entraînement sur textes fournis + textes personnels que vous
  apporterez. \n\n \n\n \n\n- lundi 15 juin : Patricia \n\nAtelier Pris
 e de Parole en Public N5 \n\n« Intentions et Emotions »\n\nComment atte
 indre son objectif: préciser les intentions\, utiliser les leviers émoti
 onnels\,  maîtriser la forme et le fond »\n\n \n\n \n\n- lundi 29 jui
 n : Patricia \n\nAtelier Prise de Parole en Public N6\n\n« Le débat »
  \n\nEntraînements sur l’argumentation et la posture:\n\npensée clair
 e et brouillage de pistes\, bonne ou mauvaise foi\, punch lignes\, l’hum
 our ou agressivité\, qui gagne à la fin ? \n\nEntraînement sur textes 
 personnels \n\n \n\n	 \n
LOCATION:179-191 avenue Joliot-Curie 92000 Nanterre - FR
ORGANIZER:Barreau et CARPA des Hauts-de-Seine
END:VEVENT
END:VCALENDAR
