BEGIN:VCALENDAR
VERSION:2.0
CALSCALE:GREGORIAN
METHOD:PUBLISH
BEGIN:VEVENT
SUMMARY:Atelier PRISE DE PAROLE EN PUBLIC 18 MAI  2026 | Improvisations
DTSTART:20260518T160000Z
DTEND:20260518T180000Z
DTSTAMP:20260420T183528Z
CATEGORIES:
DESCRIPTION:\n \n\n- lundi 18 mai : Franck\n\nAtelier Prise de Parole en 
 Public N3 \n\n« Improvisations » : \n\nL’art de libérer l’imagina
 ire\, trouver des exemples et des appuis du discours\, rebondir sur une li
 gne d’argumentation … cela s’entraîne. C’est l’art de l’impro
 visation. \n\n« De la prise de parole… à l’éloquence »\n\nSitua
 tions : barre – rdv clientelle – réunion – colloque\n\n \n\nPatri
 cia SAMUEL : Formatrice Voix – Prise de parole en public. Comédienne 
 – chanteuse.\n\nFranck GERVAIS : Formateur jeu. Comédien\, metteur en 
 scène\, compositeur.\n\nLaure BONTAZ ou Amélie MEUNIER: Formatrice : 
 Corps\, danse\, posture.\n\nDov MILSTEIN : Ancien Avocat\, comédien\, ch
 anteur. Formateur éloquence.\n\nOury ATTIA : Avocat\, formateur construc
 tion du discours.\n\n \n\nComment se prépare-t-on pour une Prise de Paro
 le en Public ?\n\nNous vous proposons une série de 6 sessions de travail
 \, pour vous sentir plus détendus et mieux armés lors de vos prises de p
 arole en public\, en rendez-vous clientèle\, en plaidoirie.\n\nTout au lo
 ng de ces ateliers\, dirigés par des formateurs professionnels\, comédie
 ns ou avocats\, nous tâcherons d’une part de revisiter les éléments i
 ndispensables à la bonne compréhension de notre fonctionnement corporel\
 , vocal\, émotionnel\, et cognitif \; et d’autre part de comprendre co
 mment développer l’impact de notre discours face à la demande et aux a
 ttentes de notre interlocuteur\, de notre public.\n\nComment prépare-t-on
  sa voix pour une prise de parole en public ? Comment positionner notre c
 orps ? Comment s’installer dans un état émotionnel favorable ? (ce d
 ernier point sera plus largement développé dans l’atelier « gestion 
 du stress »).\n\nIl y a des points communs dans la préparation et dans 
 l’exécution de la performance d’une prise de parole en public\, devan
 t un client autant que devant un tribunal. Ces éléments essentiels peuve
 nt s’entrainer et se mettre en place avec une approche pragmatique adapt
 ée à votre personnalité\, à votre corps.\n\nVous pourrez par exemple r
 apidement augmenter le volume et le placement de votre voix\, développer 
 l’agilité du corps\, augmenter vos sensations de détente\, renforcer v
 otre confiance\, affiner vos techniques d’argumentation ou de synthétis
 ation et en vérifier l’impact sur votre discours.\n\n---\n\n lundi 13 
 avril 2026 : Patricia : \n\nAtelier Prise de Parole en Public 1 : \n\n«
  Techniques de voix et Conscience du corps\, partie1 » : \n\nComment don
 ner de la voix\, ouvrir le corps\, adapter la respiration\,  l’articula
 tion\, les intonations et marquer des reliefs dans le discours. \n\nNous 
 travaillerons sur des exemples de textes fournis + vous apporterez un text
 e de votre choix (plaidoirie\, discours\, noté de conférence\, présenta
 tion orale…).\n\n \n\n \n\n- lundi 4 mai : Franck\n\nAtelier Prise de 
 Parole en Public N2\n\n« Masques et Sincérité » : \n\nTout ce que nou
 s pensons se voit. Tout ce qui se voit donne à penser. Nous nous attacher
 ons à prendre conscience de ce que notre image extérieure donne à voir 
 et à penser et comment nous pouvons avancer dans cette maîtrise intérie
 ure\, puis extérieure du paraître.\n\n \n\n \n\n- lundi 18 mai : Franc
 k\n\nAtelier Prise de Parole en Public N3 \n\n« Improvisations » : \n\
 nL’art de libérer l’imaginaire\, trouver des exemples et des appuis d
 u discours\, rebondir sur une ligne d’argumentation … cela s’entraî
 ne. C’est l’art de l’improvisation. \n\n \n\n \n\n- lundi 1er Jui
 n : Patricia\n\nAtelier Prise de Parole en Public N4: \n\n« Techniques d
 e voix et Conscience du corps\, partie 2 : Le relief dans le discours » :
  \n\nComment prendre la parole \, la donner et la reprendre\, donner du r
 elief à son discours pour le rendre palpitant ou neutre\, maitriser les p
 auses\, les inflexions de voix\, le rythme et le débit de la parole. Entr
 aînement sur textes fournis + textes personnels que vous apporterez. \n\
 n \n\n \n\n- lundi 15 juin : Patricia \n\nAtelier Prise de Parole en Pu
 blic N5 \n\n« Intentions et Emotions »\n\nComment atteindre son objecti
 f: préciser les intentions\, utiliser les leviers émotionnels\,  maîtr
 iser la forme et le fond »\n\n \n\n \n\n- lundi 29 juin : Patricia \n\
 nAtelier Prise de Parole en Public N6\n\n« Le débat » \n\nEntraînemen
 ts sur l’argumentation et la posture:\n\npensée claire et brouillage de
  pistes\, bonne ou mauvaise foi\, punch lignes\, l’humour ou agressivit
 é\, qui gagne à la fin ? \n\nEntraînement sur textes personnels \n\n
  \n\n	 \n
LOCATION:179-191 avenue Joliot-Curie 92000 Nanterre - FR
ORGANIZER:Barreau et CARPA des Hauts-de-Seine
END:VEVENT
END:VCALENDAR
