BEGIN:VCALENDAR
VERSION:2.0
CALSCALE:GREGORIAN
METHOD:PUBLISH
BEGIN:VEVENT
SUMMARY:Assemblée générale de la section fribourgeoise de l’ACS 2026
DTSTART:20260507T160000Z
DTEND:20260507T200000Z
DTSTAMP:20260425T181709Z
CATEGORIES:
DESCRIPTION:\n	Madame\, Monsieur\,\n\n	Par la présente\, nous avons l’h
 onneur et le plaisir de vous inviter à participer à l’assemblée gén
 érale ordinaire de la section fribourgeoise de l’Automobile Club de Sui
 sse (ACS) le\n\n	 \n\n	Jeudi 7 mai 2026\n\n	 \n\nVisite de l’expositio
 n Hommage à Jo Siffert & Herbert Müller\, Au Tombex 40\, 3280 Murten  
          \n	(voir détails sous www.jo-siffert.ch)\n\n	16h00   
 Visite de l’exposition en avant-première\n\n	17h00   Départ vers l
 ’AG au Château de Münchenwiler (Villars-les-Moines)\n\n	 \n\nAssembl
 ée au Château de Münchenwiler\, Kühergasse 7\, 1797 Münchenwiler \n\n
 \n		17h30   Accueil des membres et des invités (sans programme visite)\
 n\n		18h00   Assemblée statutaire pour l’année 2025\n\n		19h00   A
 péritif offert sur site\n\n		20h00   Repas offert au restaurant du Châ
 teau\n\n\n	 \n\n	Nous nous réjouissons d’ores et déjà de vous rencon
 trer nombreux à l’occasion de cette assemblée générale et vous prion
 s d’agréer\, Madame\, Monsieur\, nos cordiales salutations.\n\n	 \n\n	
  \n\nAUTOMOBILE CLUB DE SUISSE\n\n	Section de Fribourg\n\n	Le comité\n\n
 	 \n\n	Le procès-verbal de la dernière assemblée générale sera à vo
 tre disposition à l’accueil et sur le site web.\n\n	 \n
LOCATION:Kühergasse 7 1797 Münchenwiler  - CH
ORGANIZER:ACS Fribourg
END:VEVENT
END:VCALENDAR
