BEGIN:VCALENDAR
VERSION:2.0
CALSCALE:GREGORIAN
METHOD:PUBLISH
BEGIN:VEVENT
SUMMARY:GRAND CONCERT 100% KABYLE
DTSTART:20260510T130000Z
DTSTAMP:20260420T132356Z
CATEGORIES:
DESCRIPTION:Concert chanteurs Kabyle
GEO:48.8588939;2.4835132
LOCATION:223 Rue La Fontaine 94120 Fontenay-sous-Bois - FR
ORGANIZER:Sofevent
END:VEVENT
END:VCALENDAR
