BEGIN:VCALENDAR
VERSION:2.0
CALSCALE:GREGORIAN
METHOD:PUBLISH
BEGIN:VEVENT
SUMMARY:HORSKH + Killus
DTSTART:20261008T183000Z
DTEND:20261008T213000Z
DTSTAMP:20260423T000024Z
CATEGORIES:
DESCRIPTION:\nHORSKH + Killus\n	08.10.2026\n\n	Sortie 13 - salle de concer
 t présente : HORSKH + Killus\, jeudi 08 octobre 2026.\n\nHORSKH\n	Métal
  indus\n\n	HORSKH est un groupe français aux influences Métal\, Grunge e
 t Electro. Réputé pour l’intensité de ses performances scéniques\, l
 e trio déploie une énergie cataclysmique\, à la fois sauvage et millim
 étrée. Après avoir tourné en France et en Europe aux côtés d’artis
 tes tels que Perturbator\, Ministry\, Igorrr ou Carpenter Brut\, HORSKH re
 vient avec des nouveaux singles et un nouvel album en Septembre 2026\, ann
 onçant une évolution artistique à la fois plus brutale et plus mélodiq
 ue. \n\n+ Première partie : Killus\n\n	Ouverte des portes : 19h30\n	Déb
 ut du concert : 20h30\n	 \n
LOCATION:Rue Walter Scott\, 33600 Pessac 33600 Pessac - FR
ORGANIZER:Sortie 13
END:VEVENT
END:VCALENDAR
