BEGIN:VCALENDAR
VERSION:2.0
CALSCALE:GREGORIAN
METHOD:PUBLISH
BEGIN:VEVENT
SUMMARY:Jeu de piste au Musée pour les enfants
DTSTART:20260502T090000Z
DTEND:20260502T100000Z
DTSTAMP:20260425T235051Z
CATEGORIES:
DESCRIPTION:
GEO:48.1095975;-1.6748047
LOCATION:20 Quai Emile Zola 35000 Rennes - FR
END:VEVENT
END:VCALENDAR
