BEGIN:VCALENDAR
VERSION:2.0
CALSCALE:GREGORIAN
METHOD:PUBLISH
BEGIN:VEVENT
SUMMARY:Atelier "Reconnexion à ton image"
DTSTART:20260606T070000Z
DTSTAMP:20260422T142328Z
CATEGORIES:
DESCRIPTION:Atelier “Reconnexion à ton image” – Samedi 6 juin\nOffr
 e-toi une parenthèse hors du temps pour te reconnecter à qui tu es vraim
 ent.\nDans un cadre naturel apaisant\, à La Prairie du Climont dans une f
 erme entièrement rénovée\, au cœur des Vosges alsaciennes (près de SA
 ALES 67420)\, je t’invite à vivre une journée immersive dédiée à to
 n image… mais surtout à ton identité.\nUne journée pour te retrouver 
 !\nUn approche globale à travers une journée unique conçu comme un vér
 itable voyage qui allie travail sur l'image extérieur et une libération 
 intérieur. \nL’objectif : t’aider à mieux comprendre ton image\, à
  te réapproprier ton style et à l’aligner avec la personne que tu es a
 ujourd’hui. Tu vas comprendre tes blocages qui t'empêche d'exprimer que
  tu es et d'avoir la formule pour reprogrammer ton MINDSET intérieur. \n
 Deux regards complémentaires pour t’accompagner en profondeur :\n\nMél
 anie Arnoux\, fondatrice de Ma Nouvelle Image (https://manouvelleimage.com
 /) Experte en conseil en image\, elle t’accompagne à révéler un style
  aligné avec ta personnalité et tes aspirations.\nSara Cabello\, psychot
 hérapeute et praticienne bien-être (https://saracabello.fr/)Elle t’aid
 e à lever les blocages\, à travailler sur ton mindset et à te reconnect
 er à ton estime de toi.\n\nAu programme :\n\nTemps d’introspection : co
 mment je me perçois aujourd’hui ?\nAtelier créatif : dessiner et expri
 mer ton image idéale\nPartages en petit groupe (max. 10 personnes)\nExplo
 ration du style vestimentaire & de l’identité visuelle\nInitiation à l
 a colorimétrie et à la symbolique des couleurs\nDiagnostic de ta morphol
 ogie pour identifier ce qui te va le mieux \nCréation d’un moodboard /
  lookbook personnalisé\n\nDéroulé de la journée\n\nAccueil à partir d
 e 9h00 (café d'accueil)\nAtelier de 9h30 à 12h\nPause déjeuner convivi
 ale (sous forme de buffet adapté aux végétariens) \nReprise l’après
 -midi à 13h30 avec des exercices pratiques et créatifs \nPause goûter\
 nClôture en fin de journée avec un temps d’ancrage\n\nTu repars avec :
  \n\nTon nuancier de couleur personnel\nTa planche morphologie + complexe
 \nTes planches de styles vestimentaire \nLook-book personnel\nTon program
 me d'affirmation MINDSET\n\nOptions pour prolonger l’expérience\nPour v
 ivre pleinement cette immersion\, tu peux choisir :\n\nOption 1 dîner : m
 oment chaleureux autour d’un repas partagé\nOption 2 nuitée sur place 
 dans ce lieu ressourçant (inclus petit déjeuner du lendemain + détox au
 x soins ioniques)\n\nPour qui ?\nCet atelier s’adresse à toi si :\n\ntu
  te sens en décalage avec ton image et te sens bloqué pour y arriver seu
 l(e)\ntu es en période de transition personnelle ou professionnelle\ntu v
 eux te réapproprier ton style avec sens et authenticité\nou simplement t
 ’offrir un moment pour toi\n\nInformations pratiques\n\nLieu : La Prairi
 e du Climont :  https://prairie-du-climont.fr/ (67420 Bourg-Bruche)\nGrou
 pe limité à 10 participant(e)s \nTarif atelier : 160€/personne (inclu
 s l'atelier\, le café accueil\, le buffet du midi\, le goûter)\nOption 1
 : repas du soir (30€/personne entrée/plat/dessert + boisson FAIT MAISON
  et BIO) - A REGLER SUR PLACE (en informer l'organisatrice)\nOption 2 : nu
 itée sur place + petit déjeuner + détox aux soins ioniques proposé par
  Sara CABELLO (50€/personne) - A REGLER SUR PLACE (en infomer l'organisa
 trice)\n\nUne expérience unique\nPlus qu’un atelier\, c’est une renco
 ntre avec toi-même.Un moment pour te reconnecter à ton essence et oser l
 ’exprimer pleinement à travers ton image.
GEO:48.3399328;7.149019399999999
LOCATION:70 Le Hang 67420 Bourg-Bruche - FR
ORGANIZER:Ma Nouvelle Image
END:VEVENT
END:VCALENDAR
