BEGIN:VCALENDAR
VERSION:2.0
CALSCALE:GREGORIAN
METHOD:PUBLISH
BEGIN:VEVENT
SUMMARY:THEODORAKIS UNIVERSEL
DTSTART:20260506T173000Z
DTSTAMP:20260424T143554Z
CATEGORIES:
DESCRIPTION:
LOCATION:  
ORGANIZER:Mymesis compagnie
END:VEVENT
END:VCALENDAR
