BEGIN:VCALENDAR
VERSION:2.0
CALSCALE:GREGORIAN
METHOD:PUBLISH
BEGIN:VEVENT
SUMMARY:THE GLEE SHOW - DRAG SHOW
DTSTART:20260501T180000Z
DTSTAMP:20260421T134640Z
CATEGORIES:
DESCRIPTION:\n\nAbout the event\n\n\n\n\n\n\n\n\n\n\n\n \n\nEN\n\n\nThe P
 etAss Show and The Agenda are collaborating for this extra-special show th
 emed around Glee ! Every “Theatre queer” in town in invited for this o
 ccasion !\n\n\nWether you know every single song of the show\, or if you j
 ust want to educate yourself\, this show is for you !\n\n\n \n\n\nFR\n\n\
 nLe PetAss show s’allie avec The Agenda pour une show extra-spécial sur
  le thème Glee ! Tous les “Theatre queers” sont invités pour l’occ
 asion !\n\n\nQue tu connaisses toutes les chansons de la série par cœur\
 , ou que tu veuilles faire ta culture queer\, ce show est fait pour toi!\n
 \n\n \n\n\nPerfomers : Midass (host)\, Petrouchna\, Katastrofa\, T’Char
 ly\n\n\n \n\n\nFrom midnight\, we keep the party going until 4AM \n\n\n 
 \n\n\n Minimum 10€v(from 8PM) – Free After Midnight\n\n\n \n\n\n\n\n\
 n\n\n\n\n
GEO:50.8466758;4.3490191
LOCATION:18 Plattesteen 1000 Bruxelles - BE
ORGANIZER:All Of That Entertainment
END:VEVENT
END:VCALENDAR
