BEGIN:VCALENDAR
VERSION:2.0
CALSCALE:GREGORIAN
METHOD:PUBLISH
BEGIN:VEVENT
SUMMARY:Faites de l’IA votre partenaire commercial
DTSTART:20260611T123000Z
DTEND:20260611T143000Z
DTSTAMP:20260422T195605Z
CATEGORIES:
DESCRIPTION:\nJEUDI 11 JUIN\n\n14h - 16h \n\n	 \n\n\nAtelier pratique\n\
 nTransformez votre approche commerciale en intégrant l’IA comme un vér
 itable allié stratégique.\n\nDécouvrez comment optimiser\, personnalise
 r et booster votre stratégie commerciale notamment avec LinkedIn grâce 
 à des cas concrets et directement applicables.\n\nRepartez avec des méth
 odes simples pour faire de l’IA votre meilleur partenaire business\n\nAn
 imé par Marc-Antoine PAGOT – CCI Versailles-Yvelines\n\n\n	 \n
LOCATION:3 avenue du centre 78280 Guyancourt - FR
ORGANIZER:SQYcub
END:VEVENT
END:VCALENDAR
