BEGIN:VCALENDAR
VERSION:2.0
CALSCALE:GREGORIAN
METHOD:PUBLISH
BEGIN:VEVENT
SUMMARY:Ciné - Concert  LA VIE EST BELLE
DTSTART:20260526T170000Z
DTEND:20260526T200000Z
DTSTAMP:20260425T154401Z
CATEGORIES:
DESCRIPTION:\n"La Vie est Belle" est un ciné-concert-spectacle qui s'arti
 cule autour des grandes étapes de la vie. Présenté par Cell\, une petit
 e cellule apprentie magicienne aussi drôle qu'ingénue\, tous ces moments
  de vie seront mis en valeur par des témoignages de tous âges\, accompag
 nés en musique. De la naissance et l'enfance\, en passant par l'adolescen
 ce\, l'âge adulte la vieillesse et la mort\, cette aventure pleine de reb
 ondissements nous en apprendra plus sur nous les êtres humains\, avec sen
 sibilité\, émotion et humour bien-sûr ! Mais avec Cell dans les parages
 \, sur scène comme sur l’écran\, tout ne se passera pas comme prévu
 …\n\nDistribution :\n	─ Cyril Catarsi : voix\, guitare\n	─ Zoé Marg
 uaritte : voix\, violoncelle\n	─ Bertrand Bouessay : mise en scène\n	
 ─ Céline Montsarrat : voix off\n\nDurée\n	─ 35 min + Rencontre et qu
 estions avec l'équipe après la représentation\n\nProduction\n	─ Traff
 ix Music\n\n	 \n
LOCATION:Avenue Michel Rondet 59135 Wallers - FR
ORGANIZER:Arenberg Creative Mine / Agglomération La Porte du Hainaut
END:VEVENT
END:VCALENDAR
