BEGIN:VCALENDAR
VERSION:2.0
CALSCALE:GREGORIAN
METHOD:PUBLISH
BEGIN:VEVENT
SUMMARY:Anticiper ou gérer une période de turbulences\, vous n'êtes pas
  seul! 
DTSTART:20260611T073000Z
DTEND:20260611T090000Z
DTSTAMP:20260422T214316Z
CATEGORIES:
DESCRIPTION:\nJEUDI 11 JUIN\n\n9h30 - 11h \n\n	 \n\n\nRencontre info \n
 \nVous traversez une période de turbulences ou vous souhaitez l'anticiper
  ? Entreprises\, vous n’êtes pas seules !\n\nChaque dirigeant peut trav
 erser des moments difficiles. Des solutions existent et elles sont accessi
 bles\, concrètes et souvent méconnues.\n\nLes experts de la Banque de Fr
 ance\, de la DDFIP78*\, de l’URSSAF\, et de la CCI Versailles Yvelines 
 à travers le Club ROSEAU\, vous informe sur les dispositifs d’accompagn
 ement qui existent avant que la situation ne se complique : conseils perso
 nnalisés\, diagnostics financiers\, délais de paiement\, médiation du c
 rédit…\n\n		 \n\nUn moment d’échanges et de réponses à vos questi
 ons\, pour repartir avec les bons contacts et les bons leviers d’action.
 \n\n		 \n\nAnimé par Jérôme Bon – Banque de France\, Magali Caharel 
 – DDFIP78*\, Amandine Gaspard – URSSAF\, Laurent Courquin & Thierry La
 nchantin – CCI Versailles Yvelines\n\n		 \n\n\n*Direction Départementa
 le des Finances Publiques \n
LOCATION:3 avenue du centre 78280 Guyancourt - FR
ORGANIZER:SQYcub
END:VEVENT
END:VCALENDAR
