BEGIN:VCALENDAR
VERSION:2.0
CALSCALE:GREGORIAN
METHOD:PUBLISH
BEGIN:VEVENT
SUMMARY:Réunion d’information - Appel à Candidature & Challenge Defens
 e
DTSTART:20260609T080000Z
DTEND:20260609T093000Z
DTSTAMP:20260423T152315Z
CATEGORIES:
DESCRIPTION:\nMARDI 9 JUIN\n\n10h - 11h30\n\n	 \n\n	 \n\nAPPEL A CANDIDA
 TURE\n\n\nVous portez un projet d’innovation technologique ou de service
  ou vous dirigez une start-up en phase de croissance ? \n\nSQY Cub\, l’e
 space dédié à l’entrepreneuriat et l’innovation de Saint-Quentin-en
 -Yvelines vous propose une offre unique d’incubation ou d’accélérati
 on\, avec un accompagnement personnalisé 360°\, individuel et collectif 
 et le soutien d’experts thématiques.\n\nInscrivez-vous à la réunion d
 'information pour tout savoir sur nos programmes ou contactez-nous : valé
 rie.cariou@sqy.fr\n\nAnimé par Valérie Cariou – SQY \; Florence Cagha
 ssi Jouni – Dynergie \; Lorene Durazza – Wilco\n\n		 \n\nCHALLENGE D
 EFENSE \n\nSQY Cub\, l’incubateur de Saint-Quentin-en-Yvelines\, et Air
 bus Defence & Space s’associent pour détecter 3 start-ups et les accomp
 agner vers la maturation de leur offre.\n\nInscrivez-vous à la réunion d
 'information pour tout savoir sur ce Chellenge ou contactez-nous : valéri
 e.cariou@sqy.fr\n\nAnimé par Valérie Cariou – SQY \; Airbus Defence &
  Space et Airbus Développement\n\n		 \n\n\n	 \n
LOCATION:3 avenue du centre 78280 Guyancourt - FR
ORGANIZER:SQYcub
END:VEVENT
END:VCALENDAR
