BEGIN:VCALENDAR
VERSION:2.0
CALSCALE:GREGORIAN
METHOD:PUBLISH
BEGIN:VEVENT
SUMMARY:João Selva – Bumba et la Forêt enchantée
DTSTART:20260522T120000Z
DTSTAMP:20260423T193139Z
CATEGORIES:
DESCRIPTION:Un conte musical solaire et poétique inspiré des cultures br
 ésiliennes\, à partager en famille (à partir de 7 ans).
LOCATION:Avenue des Hyverneaux 77220 LESIGNY
ORGANIZER:Communauté de communes les Portes Briardes
END:VEVENT
END:VCALENDAR
