BEGIN:VCALENDAR
VERSION:2.0
CALSCALE:GREGORIAN
METHOD:PUBLISH
BEGIN:VEVENT
SUMMARY:IQ PARIS 45E ANNIVERSAIRE
DTSTART:20260925T170000Z
DTSTAMP:20260422T145852Z
CATEGORIES:
DESCRIPTION:IQ – 45 ans de carrière | Paris – L’Alhambra\nFigure in
 contournable du rock progressif britannique\, IQ célèbre plus de 45 ans 
 de carrière à travers une tournée exceptionnelle. Le groupe\, reconnu p
 our ses compositions puissantes et atmosphériques\, s’est imposé comme
  l’un des piliers du genre aux côtés des plus grands.\nLe 25 septembre
  2026\, IQ investira la scène de L’Alhambra à Paris pour un concert un
 ique\, revisitant les moments forts de sa discographie\, des classiques em
 blématiques aux œuvres plus récentes.\nEn première partie\, le groupe 
 français Esthesis\, nouvelle référence du rock progressif hexagonal\, o
 uvrira la soirée avec son univers moderne et immersif.\nUne soirée rare\
 , intense et émotionnelle\, à ne pas manquer pour tous les amateurs de m
 usique progressive.\n18h : Ouverture des portes\n19h : 1ère partie : ESTH
 ESIS\n20h : Entracte\n20h30 : IQ
GEO:48.870594;2.362953
LOCATION:21 Rue Yves Toudic 75010 Paris - FR
ORGANIZER:AKAYAMA
END:VEVENT
END:VCALENDAR
