BEGIN:VCALENDAR
VERSION:2.0
CALSCALE:GREGORIAN
METHOD:PUBLISH
BEGIN:VEVENT
SUMMARY:Journée à la Rencontre de Soi
DTSTART:20260503T073000Z
DTEND:20260503T150000Z
DTSTAMP:20260425T173035Z
CATEGORIES:
DESCRIPTION:\n\n\n\n\n\n\n\n\n\n\n\n\n\n\n\n\n\n\n\n\n\n\n\n\n\n\n Une in
 vitation à prendre du temps pour soi dans une journée particulière \n
 \n\n\n\n\n\n\n\n\n\n\n\n\n\n\n\n\n\n\n\n\n\n\n\n\n\n\n\n\n\n\n\n\n\n\n\n\n
 \nEt si vous preniez du temps pour vous ?\n \nDimanche 3 mai 2026 nous vo
 us invitons à une journée particulière\, \nune expérience unique de 
 bien-être \net de reconnexion !\n \n« À la rencontre de soi » est 
 une journée spéciale conçue pour :\nse faire du bien\, \ndécouvrir de
  nouvelles pratiques\, se rencontrer \net partager.\n \nOrganisée dans
  un centre de méditation\, cette journée est l’occasion idéale de s'
 offrir une pause\, de relâcher les tensions\, de mieux gérer le stress q
 u'il soit mental ou physique\, d’explorer différentes approches pour \
 ns'alléger de poids familiaux ou personnels\, en résumé : \npour avan
 cer avec plus de sérénité dans sa vie.\n \nAu cours de cette journée\
 , vous pourrez :\n \n  Participer à 3 ateliers Découverte\n  Partag
 er un déjeuner convivial\n  Bénéficier de temps d’échanges et d’
 accompagnements individuels l’après-midi\n \nEncadrée par 4 praticien
 s spécialisés en :\n \n- Shiatsu et Do-in\n- Thérapie holistique & m
 édiumnité\n- Coaching PNL et Constellations familiales\n- Soins Reiki e
 t massages intuitifs\n \ncette journée a été pensée pour vous apporte
 r détente\, éclairage et transformation\, pour un tarif très équilibr
 é.\n \n De 9h30 à 17h\n Tarif : 65 €\n \nSi vous ressentez l’en
 vie de vous recentrer\, de comprendre certains blocages ou simplement de v
 ous faire du bien\, \nc’est le moment  !\n \nLes cafés\, thés\, ti
 sanes seront offerts pour vous accueillir. \nA chacun de ramener son déj
 euner \, une cuisine étant à disposition\, nous profiterons de ce mome
 nt de partage pour échanger et partager nos expériences.\n \nLes places
  étant limitées\, pensez à réserver !\n\n\n\n\n\n\n\n\n\n\n\n\n\n\n\n\
 n\n\n\n\n\n\n\n\n\n\n\n\n\n\n
GEO:46.180984;-1.1400755
LOCATION:10 Rue Georges Triaud 17140 Lagord - FR
ORGANIZER:Laure Dupé Shiatsu
END:VEVENT
END:VCALENDAR
