BEGIN:VCALENDAR
VERSION:2.0
CALSCALE:GREGORIAN
METHOD:PUBLISH
BEGIN:VEVENT
SUMMARY:Visite du chantier de fouilles archéologiques d'Onnaing
DTSTART:20260613T080000Z
DTEND:20260613T153000Z
DTSTAMP:20260422T202337Z
CATEGORIES:
DESCRIPTION:Les archéologues de l'Institut national de recherches archéo
 logiques préventives (Inrap) mènent actuellement une fouille à Onnaing.
  Le chantier sera exceptionnellement ouvert au public le samedi 13 juin 20
 26\, dans le cadre des Journées européennes de l'archéologie (JEA). Les
  archéologues ont mis au jour de nombreux vestiges témoignant de la pré
 sence d'une ferme gauloise et de son évolution jusqu'à l'époque romaine
 .\nDes visites\, commentées par les archéologues\, seront proposées tou
 tes les 30 minutes. En parallèle\, des ateliers permettront aux visiteurs
  d'en apprendre davantage sur l'archéologie préventive et le travail des
  archéologues. Afin d'assurer la sécurité de tous\, l'accès aux visit
 es sera réservé aux personnes inscrites. \nIl est recommandé de prévo
 ir des chaussures fermées et adaptées à un chantier de fouilles (basket
 s\, chaussures de marche). 
GEO:50.386711;3.600438
LOCATION:Rue Jacky Leroy 59264 Onnaing - FR
ORGANIZER:Inrap Hauts-de-France
END:VEVENT
END:VCALENDAR
