BEGIN:VCALENDAR
VERSION:2.0
CALSCALE:GREGORIAN
METHOD:PUBLISH
BEGIN:VEVENT
SUMMARY:Market Place Vendors
DTSTART:20260626T110000Z
DTSTAMP:20260424T043133Z
CATEGORIES:
DESCRIPTION:FibreFeelia 2026 Marketplace will be held at the Lucerne Schoo
 l in New Denver BC the weekend of June 26\, 27\, and 28. To be considered 
 for a Vendor Booth\, submit the application no later than May 30\, 2026.\n
 Please\, start your application by choosing how many booth spaces you woul
 d like\, and the system will take you to the application form before you c
 an finish your purchase. If you have questions\, let us know at daphne@lau
 reltree.ca.
GEO:49.99273609999999;-117.3702532
LOCATION:604 7 Avenue V0G 1S0 New Denver - CA
ORGANIZER:Laurel Tree Fabric & Fibre
END:VEVENT
END:VCALENDAR
