BEGIN:VCALENDAR
VERSION:2.0
CALSCALE:GREGORIAN
METHOD:PUBLISH
BEGIN:VEVENT
SUMMARY:À la découverte de nos horizons
DTSTART:20260506T220000Z
DTSTAMP:20260421T134619Z
CATEGORIES:
DESCRIPTION:Nous vous invitons à une soirée convivale immersive au cœur
  de notre univers Cœur d’Artichaud. Cet événement est pensé comme un
  moment d’échange privilégié pour explorer\, en profondeur\, les enje
 ux contemporains de la décoration d’intérieur.\nÀ travers notre regar
 d et notre expérience terrain  acquis depuis les 9 dernieres années— 
 nourris de recherches internationales en Europe\, en Asie et au Mexique 
 — nous aborderons les grandes tendances qui façonnent les espaces de vi
 e aujourd’hui et demain.\nNous partagerons également notre approche de 
 la curation\, de l’importation de pièces d’exception\, ainsi que notr
 e engagement dans le développement d’un écosystème local fort.\n \nE
 nfin\, cette rencontre sera l’occasion d’ouvrir la réflexion sur les 
 transformations à venir : impact de l’intelligence artificielle\, évol
 utions géopolitiques et nouvelles attentes des consommateurs à l’horiz
 on 2027.
GEO:45.5341575;-73.5833947
LOCATION:1451 Avenue Laurier Est H2J 1H8 Montréal - CA
ORGANIZER:Coeur d'Artichaut
END:VEVENT
END:VCALENDAR
