BEGIN:VCALENDAR
VERSION:2.0
CALSCALE:GREGORIAN
METHOD:PUBLISH
BEGIN:VEVENT
SUMMARY:Danse et explorations chamaniques 
DTSTART:20260606T150000Z
DTEND:20260606T170000Z
DTSTAMP:20260419T170128Z
CATEGORIES:
DESCRIPTION:\nATELIERS VOYAGE AU TAMBOUR & DANSE THERAPIE \n\n	Après une
  pause de plusieurs mois de manière à pouvoir pleinement me consacrer à
  l'obtention de mon master en anthropologie et ethnologie l'année passée
 \, il est à présent temps de reprendre les activités en atelier\, et ai
 nsi vous proposer une toute nouvelle session destinée à tous·tes cell
 es et ceux se sentant appelés vers la découverte des pratiques du voya
 ge au tambour et l’exploration par le mouvement de ces merveilleuses tr
 aditions !\n\nUn atelier hybride\, entre danse et explorations des mondes 
 chamaniques ! \n\n	Pour cette session de reprise\, nous irons nous relier 
 à toutes celles et ceux qui nous ont portés jusqu'ici. A cet effet\, nou
 s nous connecterons à la sagesse et à la force de nos ancêtres\, afin d
 'accueillir les messages qu'ils ont très probablement à nous transmettre
 . Pour cela\, nous utiliserons les pratiques d'exploration et de voyage au
  tambour\, ainsi que de la danse et du mouvement libre. Le tout accompagn
 é\, et c'est une nouveauté\, d'un oracle dédié au mouvement !\n\n	 \n
 \nINFORMATIONS PRATIQUES\n\n\n		Prévoir une tenue souple et confortable\
 , de quoi prendre des notes et dessiner\n\n		Prévoir d'apporter un ta
 pis de Yoga\, un zafu (si besoin pour votre assise au sol)\, un plaid\,
  un bandeau pour couvrir les yeux pour les temps de voyage. Des chauss
 ettes anti dérapantes / chaussons souples (les chaussures doivent être 
 retirées à l'entrée). De quoi vous désaltérer. \n\n\n	Un point mat
 ériel et infos pratiques sera envoyé à l'approche de l'atelier. \n\nAd
 resse : Micadanses\, 20 rue Geoffroy l’Asnier\, 75004 PARIS. Studio Noc
 es (180m2). \n\nTarif : 40 euros. Maximum 10 personnes. \n\nPréparation
  : d’un point de vue chamanique\, il est conseillé d'éviter de consom
 mer tabac et alcool les jours qui précèdent les ateliers. Il est par ail
 leurs possible que vous commenciez à vivre certaines expériences\, rêve
 s ou synchronicités en amont :-)\n\nBon à savoir : la plateforme propos
 e une assurance annulation en cas d'empêchement\, n'hésitez pas à y sou
 scrire en cas d'imprévu. Les billets ne sont pas remboursables sauf en ca
 s d'annulation de l'événement. \n\nImportant : la salle accueille diff
 érents ateliers successifs. Les ateliers démarrent donc à l'heure :-)
  Les ateliers sont ouverts à tous\, à partir de 18 ans. Il n'est pas n
 écessaire de savoir danser\, ou d'avoir déjà exploré la voie chamaniqu
 e\, même si bien sûr cela peut être aidant. En revanche\, comme toute p
 ratique mobilisant des états de conscience modifiée\, la pratique est c
 ontre indiquée aux personnes souffrant d’une pathologie dissociative e
 t/ou troubles psychotiques. \n\nLivre d'or : https://innsaei.fr/temoigna
 ges\n\n	 \n\nQUI JE SUIS :\n\nLaetitia Maussion \n\nSophrologue certifi
 ée (RNCP) • Praticienne en hypnose Ericksonienne • Hypnose spirituell
 e & énergétique • Autohypnose • Méditation de pleine conscience •
  Praticienne chamanique • Danse thérapie   \n\n	Passionnée par l’e
 xploration de la conscience\, la transmission et la préservation des trad
 itions léguées par nos ancêtres et la sagesse des peuples racines\, j
 ’ai eu la chance\, en plus de mon métier de thérapeute\, de pouvoir é
 galement me former à différents types d’approches d’accompagnement d
 e traditions chamaniques auprès de la Foundation for Shamanic Studies (
 FSS)\, en France et au niveau européen (Three Year Program of Advanced In
 itiations in Shamanism and Shamanic Healing). Des traditions que je suis h
 eureuse de pouvoir partager à présent avec tous ceux qui se sentent appe
 lés vers la découverte et l’exploration de ces merveilleuses tradition
 s !\n\n	Il me tient en effet à cœur de rendre accessible au plus grand 
 nombre\, pratiques et connaissances permettant de mobiliser et développer
  ce formidable réservoir de ressources présent en chacun de nous. C’es
 t vous accompagner dans cette (re)connexion à vous-même\, à ce pouvoir 
 intérieur qui est le vôtre\, ainsi qu’aux dimensions invisibles dans l
 esquelles nous évoluons\, à la fois en tant qu’êtres humains et en ta
 nt qu’esprits de la Nature au sein de la toile du grand Tout.\n\n	En sav
 oir plus : www.innsaei.fr\n\n	 \n
LOCATION:20 rue Geoffroy l'Asnier 75004  Paris - FR
ORGANIZER:innsaei
END:VEVENT
END:VCALENDAR
