BEGIN:VCALENDAR
VERSION:2.0
CALSCALE:GREGORIAN
METHOD:PUBLISH
BEGIN:VEVENT
SUMMARY:L'Histoire du soldat
DTSTART:20260522T173000Z
DTEND:20260522T183000Z
DTSTAMP:20260419T200534Z
CATEGORIES:
DESCRIPTION:
GEO:48.851993;2.2748388
LOCATION:11 Rue Jean de la Fontaine 75016 Paris - FR
ORGANIZER:Conservatoire Francis Poulenc
END:VEVENT
END:VCALENDAR
